BEGIN:VCALENDAR
VERSION:2.0
PRODID:-//YSI INET - ECPv6.15.20//NONSGML v1.0//EN
CALSCALE:GREGORIAN
METHOD:PUBLISH
X-WR-CALNAME:YSI INET
X-ORIGINAL-URL:https://heske.wisdmlabs.net
X-WR-CALDESC:Events for YSI INET
REFRESH-INTERVAL;VALUE=DURATION:PT1H
X-Robots-Tag:noindex
X-PUBLISHED-TTL:PT1H
BEGIN:VTIMEZONE
TZID:America/New_York
BEGIN:DAYLIGHT
TZOFFSETFROM:-0500
TZOFFSETTO:-0400
TZNAME:EDT
DTSTART:20250309T070000
END:DAYLIGHT
BEGIN:STANDARD
TZOFFSETFROM:-0400
TZOFFSETTO:-0500
TZNAME:EST
DTSTART:20251102T060000
END:STANDARD
BEGIN:DAYLIGHT
TZOFFSETFROM:-0500
TZOFFSETTO:-0400
TZNAME:EDT
DTSTART:20260308T070000
END:DAYLIGHT
BEGIN:STANDARD
TZOFFSETFROM:-0400
TZOFFSETTO:-0500
TZNAME:EST
DTSTART:20261101T060000
END:STANDARD
BEGIN:DAYLIGHT
TZOFFSETFROM:-0500
TZOFFSETTO:-0400
TZNAME:EDT
DTSTART:20270314T070000
END:DAYLIGHT
BEGIN:STANDARD
TZOFFSETFROM:-0400
TZOFFSETTO:-0500
TZNAME:EST
DTSTART:20271107T060000
END:STANDARD
END:VTIMEZONE
BEGIN:VEVENT
DTSTART;TZID=America/New_York:20260429T080000
DTEND;TZID=America/New_York:20260429T170000
DTSTAMP:20260424T085715
CREATED:20260423T130227Z
LAST-MODIFIED:20260423T130227Z
UID:10008508-1777449600-1777482000@heske.wisdmlabs.net
SUMMARY:OTZ - LA by testuser1
DESCRIPTION:OTZ – LA by testuser1OTZ – LA by testuser1OTZ – LA by testuser1OTZ – LA by testuser1
URL:https://heske.wisdmlabs.net/event/otz-la-by-testuser1/
CATEGORIES:A one-time zoom
ATTACH;FMTTYPE=image/png:https://heske.wisdmlabs.net/wp-content/uploads/2026/04/5956592-2.png
LOCATION:https://heske.wisdmlabs.net/event/otz-la-by-testuser1/
END:VEVENT
BEGIN:VEVENT
DTSTART;TZID=America/New_York:20260429T160000
DTEND;TZID=America/New_York:20260429T190000
DTSTAMP:20260424T085715
CREATED:20260423T130227Z
LAST-MODIFIED:20260423T130227Z
UID:10008509-1777478400-1777489200@heske.wisdmlabs.net
SUMMARY:OTZ - LA by testuser1
DESCRIPTION:OTZ – LA by testuser1OTZ – LA by testuser1OTZ – LA by testuser1OTZ – LA by testuser1
URL:https://heske.wisdmlabs.net/event/otz-la-by-testuser1/
CATEGORIES:A one-time zoom
ATTACH;FMTTYPE=image/png:https://heske.wisdmlabs.net/wp-content/uploads/2026/04/5956592-2.png
LOCATION:https://heske.wisdmlabs.net/event/otz-la-by-testuser1/
END:VEVENT
END:VCALENDAR