BEGIN:VCALENDAR
VERSION:2.0
PRODID:-//YSI INET - ECPv6.15.20//NONSGML v1.0//EN
CALSCALE:GREGORIAN
METHOD:PUBLISH
X-WR-CALNAME:YSI INET
X-ORIGINAL-URL:https://heske.wisdmlabs.net
X-WR-CALDESC:Events for YSI INET
REFRESH-INTERVAL;VALUE=DURATION:PT1H
X-Robots-Tag:noindex
X-PUBLISHED-TTL:PT1H
BEGIN:VTIMEZONE
TZID:America/New_York
BEGIN:DAYLIGHT
TZOFFSETFROM:-0500
TZOFFSETTO:-0400
TZNAME:EDT
DTSTART:20250309T070000
END:DAYLIGHT
BEGIN:STANDARD
TZOFFSETFROM:-0400
TZOFFSETTO:-0500
TZNAME:EST
DTSTART:20251102T060000
END:STANDARD
BEGIN:DAYLIGHT
TZOFFSETFROM:-0500
TZOFFSETTO:-0400
TZNAME:EDT
DTSTART:20260308T070000
END:DAYLIGHT
BEGIN:STANDARD
TZOFFSETFROM:-0400
TZOFFSETTO:-0500
TZNAME:EST
DTSTART:20261101T060000
END:STANDARD
BEGIN:DAYLIGHT
TZOFFSETFROM:-0500
TZOFFSETTO:-0400
TZNAME:EDT
DTSTART:20270314T070000
END:DAYLIGHT
BEGIN:STANDARD
TZOFFSETFROM:-0400
TZOFFSETTO:-0500
TZNAME:EST
DTSTART:20271107T060000
END:STANDARD
END:VTIMEZONE
BEGIN:VEVENT
DTSTART;TZID=America/New_York:20260501T080000
DTEND;TZID=America/New_York:20260501T170000
DTSTAMP:20260424T085649
CREATED:20260423T130155Z
LAST-MODIFIED:20260423T130155Z
UID:10008510-1777622400-1777654800@heske.wisdmlabs.net
SUMMARY:SOZ - S&M
DESCRIPTION:SOZ – S&MSOZ – S&MSOZ – S&MSOZ – S&MSOZ – S&MSOZ – S&M
URL:https://heske.wisdmlabs.net/event/soz-sm/2026-05-01/
CATEGORIES:A series of zooms
ATTACH;FMTTYPE=image/png:https://heske.wisdmlabs.net/wp-content/uploads/2026/04/5956592-3.png
LOCATION:https://heske.wisdmlabs.net/event/soz-sm/2026-05-01/
END:VEVENT
BEGIN:VEVENT
DTSTART;TZID=America/New_York:20260502T080000
DTEND;TZID=America/New_York:20260502T170000
DTSTAMP:20260424T085649
CREATED:20260423T130155Z
LAST-MODIFIED:20260423T130155Z
UID:10008511-1777708800-1777741200@heske.wisdmlabs.net
SUMMARY:SOZ - S&M
DESCRIPTION:SOZ – S&MSOZ – S&MSOZ – S&MSOZ – S&MSOZ – S&MSOZ – S&M
URL:https://heske.wisdmlabs.net/event/soz-sm/2026-05-02/
CATEGORIES:A series of zooms
ATTACH;FMTTYPE=image/png:https://heske.wisdmlabs.net/wp-content/uploads/2026/04/5956592-3.png
LOCATION:https://heske.wisdmlabs.net/event/soz-sm/2026-05-02/
END:VEVENT
BEGIN:VEVENT
DTSTART;TZID=America/New_York:20260503T080000
DTEND;TZID=America/New_York:20260503T170000
DTSTAMP:20260424T085649
CREATED:20260423T130155Z
LAST-MODIFIED:20260423T130155Z
UID:10008512-1777795200-1777827600@heske.wisdmlabs.net
SUMMARY:SOZ - S&M
DESCRIPTION:SOZ – S&MSOZ – S&MSOZ – S&MSOZ – S&MSOZ – S&MSOZ – S&M
URL:https://heske.wisdmlabs.net/event/soz-sm/2026-05-03/
CATEGORIES:A series of zooms
ATTACH;FMTTYPE=image/png:https://heske.wisdmlabs.net/wp-content/uploads/2026/04/5956592-3.png
LOCATION:https://heske.wisdmlabs.net/event/soz-sm/2026-05-03/
END:VEVENT
BEGIN:VEVENT
DTSTART;TZID=America/New_York:20260504T080000
DTEND;TZID=America/New_York:20260504T170000
DTSTAMP:20260424T085649
CREATED:20260423T130155Z
LAST-MODIFIED:20260423T130155Z
UID:10008513-1777881600-1777914000@heske.wisdmlabs.net
SUMMARY:SOZ - S&M
DESCRIPTION:SOZ – S&MSOZ – S&MSOZ – S&MSOZ – S&MSOZ – S&MSOZ – S&M
URL:https://heske.wisdmlabs.net/event/soz-sm/2026-05-04/
CATEGORIES:A series of zooms
ATTACH;FMTTYPE=image/png:https://heske.wisdmlabs.net/wp-content/uploads/2026/04/5956592-3.png
LOCATION:https://heske.wisdmlabs.net/event/soz-sm/2026-05-04/
END:VEVENT
BEGIN:VEVENT
DTSTART;TZID=America/New_York:20260505T080000
DTEND;TZID=America/New_York:20260505T170000
DTSTAMP:20260424T085650
CREATED:20260423T130155Z
LAST-MODIFIED:20260423T130155Z
UID:10008514-1777968000-1778000400@heske.wisdmlabs.net
SUMMARY:SOZ - S&M
DESCRIPTION:SOZ – S&MSOZ – S&MSOZ – S&MSOZ – S&MSOZ – S&MSOZ – S&M
URL:https://heske.wisdmlabs.net/event/soz-sm/2026-05-05/
CATEGORIES:A series of zooms
ATTACH;FMTTYPE=image/png:https://heske.wisdmlabs.net/wp-content/uploads/2026/04/5956592-3.png
LOCATION:https://heske.wisdmlabs.net/event/soz-sm/2026-05-05/
END:VEVENT
BEGIN:VEVENT
DTSTART;TZID=America/New_York:20260506T080000
DTEND;TZID=America/New_York:20260506T170000
DTSTAMP:20260424T085650
CREATED:20260423T130155Z
LAST-MODIFIED:20260423T130155Z
UID:10008515-1778054400-1778086800@heske.wisdmlabs.net
SUMMARY:SOZ - S&M
DESCRIPTION:SOZ – S&MSOZ – S&MSOZ – S&MSOZ – S&MSOZ – S&MSOZ – S&M
URL:https://heske.wisdmlabs.net/event/soz-sm/2026-05-06/
CATEGORIES:A series of zooms
ATTACH;FMTTYPE=image/png:https://heske.wisdmlabs.net/wp-content/uploads/2026/04/5956592-3.png
LOCATION:https://heske.wisdmlabs.net/event/soz-sm/2026-05-06/
END:VEVENT
BEGIN:VEVENT
DTSTART;TZID=America/New_York:20260507T080000
DTEND;TZID=America/New_York:20260507T170000
DTSTAMP:20260424T085650
CREATED:20260423T130155Z
LAST-MODIFIED:20260423T130155Z
UID:10008516-1778140800-1778173200@heske.wisdmlabs.net
SUMMARY:SOZ - S&M
DESCRIPTION:SOZ – S&MSOZ – S&MSOZ – S&MSOZ – S&MSOZ – S&MSOZ – S&M
URL:https://heske.wisdmlabs.net/event/soz-sm/2026-05-07/
CATEGORIES:A series of zooms
ATTACH;FMTTYPE=image/png:https://heske.wisdmlabs.net/wp-content/uploads/2026/04/5956592-3.png
LOCATION:https://heske.wisdmlabs.net/event/soz-sm/2026-05-07/
END:VEVENT
BEGIN:VEVENT
DTSTART;TZID=America/New_York:20260508T080000
DTEND;TZID=America/New_York:20260508T170000
DTSTAMP:20260424T085650
CREATED:20260423T130155Z
LAST-MODIFIED:20260423T130155Z
UID:10008517-1778227200-1778259600@heske.wisdmlabs.net
SUMMARY:SOZ - S&M
DESCRIPTION:SOZ – S&MSOZ – S&MSOZ – S&MSOZ – S&MSOZ – S&MSOZ – S&M
URL:https://heske.wisdmlabs.net/event/soz-sm/2026-05-08/
CATEGORIES:A series of zooms
ATTACH;FMTTYPE=image/png:https://heske.wisdmlabs.net/wp-content/uploads/2026/04/5956592-3.png
LOCATION:https://heske.wisdmlabs.net/event/soz-sm/2026-05-08/
END:VEVENT
END:VCALENDAR